BEGIN:VCALENDAR
VERSION:2.0
PRODID:-//Elimförsamlingen i Säter - ECPv6.15.14//NONSGML v1.0//EN
CALSCALE:GREGORIAN
METHOD:PUBLISH
X-ORIGINAL-URL:https://elimsater.se
X-WR-CALDESC:Händelser för Elimförsamlingen i Säter
REFRESH-INTERVAL;VALUE=DURATION:PT1H
X-Robots-Tag:noindex
X-PUBLISHED-TTL:PT1H
BEGIN:VTIMEZONE
TZID:UTC
BEGIN:STANDARD
TZOFFSETFROM:+0000
TZOFFSETTO:+0000
TZNAME:UTC
DTSTART:20240101T000000
END:STANDARD
END:VTIMEZONE
BEGIN:VEVENT
DTSTART;TZID=UTC:20251026T110000
DTEND;TZID=UTC:20251026T130000
DTSTAMP:20260419T222758
CREATED:20250828T103647Z
LAST-MODIFIED:20250828T103647Z
UID:2555-1761476400-1761483600@elimsater.se
SUMMARY:Gudstjänst
DESCRIPTION:Predikar: Josef Pansell. Nattvard
URL:https://elimsater.se/kalender/gudstjanst-8/
CATEGORIES:Gudstjänst
END:VEVENT
END:VCALENDAR