BEGIN:VCALENDAR
VERSION:2.0
PRODID:-//Elimförsamlingen i Säter - ECPv6.15.14//NONSGML v1.0//EN
CALSCALE:GREGORIAN
METHOD:PUBLISH
X-ORIGINAL-URL:https://elimsater.se
X-WR-CALDESC:Händelser för Elimförsamlingen i Säter
REFRESH-INTERVAL;VALUE=DURATION:PT1H
X-Robots-Tag:noindex
X-PUBLISHED-TTL:PT1H
BEGIN:VTIMEZONE
TZID:UTC
BEGIN:STANDARD
TZOFFSETFROM:+0000
TZOFFSETTO:+0000
TZNAME:UTC
DTSTART:20250101T000000
END:STANDARD
END:VTIMEZONE
BEGIN:VEVENT
DTSTART;TZID=UTC:20260221T100000
DTEND;TZID=UTC:20260221T130000
DTSTAMP:20260419T161732
CREATED:20260126T130930Z
LAST-MODIFIED:20260126T130930Z
UID:2758-1771668000-1771678800@elimsater.se
SUMMARY:Fixardag
DESCRIPTION:
URL:https://elimsater.se/kalender/fixardag-2/
CATEGORIES:Övrigt
END:VEVENT
END:VCALENDAR