BEGIN:VCALENDAR
VERSION:2.0
PRODID:-//Elimförsamlingen i Säter - ECPv6.15.14//NONSGML v1.0//EN
CALSCALE:GREGORIAN
METHOD:PUBLISH
X-WR-CALNAME:Elimförsamlingen i Säter
X-ORIGINAL-URL:https://elimsater.se
X-WR-CALDESC:Händelser för Elimförsamlingen i Säter
REFRESH-INTERVAL;VALUE=DURATION:PT1H
X-Robots-Tag:noindex
X-PUBLISHED-TTL:PT1H
BEGIN:VTIMEZONE
TZID:UTC
BEGIN:STANDARD
TZOFFSETFROM:+0000
TZOFFSETTO:+0000
TZNAME:UTC
DTSTART:20250101T000000
END:STANDARD
END:VTIMEZONE
BEGIN:VEVENT
DTSTART;TZID=UTC:20260205T190000
DTEND;TZID=UTC:20260205T200000
DTSTAMP:20260419T172212
CREATED:20251230T152956Z
LAST-MODIFIED:20251230T152956Z
UID:2688-1770318000-1770321600@elimsater.se
SUMMARY:Bön
DESCRIPTION:
URL:https://elimsater.se/kalender/bon-2-3-7-4-3-6/
CATEGORIES:Bönetimme
END:VEVENT
BEGIN:VEVENT
DTSTART;TZID=UTC:20260212T190000
DTEND;TZID=UTC:20260212T200000
DTSTAMP:20260419T172212
CREATED:20251230T153030Z
LAST-MODIFIED:20251230T153030Z
UID:2689-1770922800-1770926400@elimsater.se
SUMMARY:Bön
DESCRIPTION:
URL:https://elimsater.se/kalender/bon-2-3-7-4-3-7/
CATEGORIES:Bönetimme
END:VEVENT
BEGIN:VEVENT
DTSTART;TZID=UTC:20260219T190000
DTEND;TZID=UTC:20260219T200000
DTSTAMP:20260419T172212
CREATED:20251230T153110Z
LAST-MODIFIED:20251230T153110Z
UID:2690-1771527600-1771531200@elimsater.se
SUMMARY:Bön
DESCRIPTION:
URL:https://elimsater.se/kalender/bon-2-3-7-4-3-8/
CATEGORIES:Bönetimme
END:VEVENT
BEGIN:VEVENT
DTSTART;TZID=UTC:20260226T190000
DTEND;TZID=UTC:20260226T200000
DTSTAMP:20260419T172212
CREATED:20251230T153151Z
LAST-MODIFIED:20251230T153151Z
UID:2691-1772132400-1772136000@elimsater.se
SUMMARY:Bön
DESCRIPTION:
URL:https://elimsater.se/kalender/bon-2-3-7-4-3-9/
CATEGORIES:Bönetimme
END:VEVENT
END:VCALENDAR