BEGIN:VCALENDAR
VERSION:2.0
PRODID:-//Elimförsamlingen i Säter - ECPv6.15.14//NONSGML v1.0//EN
CALSCALE:GREGORIAN
METHOD:PUBLISH
X-WR-CALNAME:Elimförsamlingen i Säter
X-ORIGINAL-URL:https://elimsater.se
X-WR-CALDESC:Händelser för Elimförsamlingen i Säter
REFRESH-INTERVAL;VALUE=DURATION:PT1H
X-Robots-Tag:noindex
X-PUBLISHED-TTL:PT1H
BEGIN:VTIMEZONE
TZID:UTC
BEGIN:STANDARD
TZOFFSETFROM:+0000
TZOFFSETTO:+0000
TZNAME:UTC
DTSTART:20240101T000000
END:STANDARD
END:VTIMEZONE
BEGIN:VEVENT
DTSTART;TZID=UTC:20250831T110000
DTEND;TZID=UTC:20250831T130000
DTSTAMP:20260420T050058
CREATED:20250828T100458Z
LAST-MODIFIED:20250828T102740Z
UID:2531-1756638000-1756645200@elimsater.se
SUMMARY:Bönegudstjänst
DESCRIPTION:Josef Pansell
URL:https://elimsater.se/kalender/bonegudstjanst/
CATEGORIES:Gudstjänst
END:VEVENT
END:VCALENDAR