BEGIN:VCALENDAR
VERSION:2.0
PRODID:-//Elimförsamlingen i Säter - ECPv6.15.14//NONSGML v1.0//EN
CALSCALE:GREGORIAN
METHOD:PUBLISH
X-ORIGINAL-URL:https://elimsater.se
X-WR-CALDESC:Händelser för Elimförsamlingen i Säter
REFRESH-INTERVAL;VALUE=DURATION:PT1H
X-Robots-Tag:noindex
X-PUBLISHED-TTL:PT1H
BEGIN:VTIMEZONE
TZID:UTC
BEGIN:STANDARD
TZOFFSETFROM:+0000
TZOFFSETTO:+0000
TZNAME:UTC
DTSTART:20240101T000000
END:STANDARD
END:VTIMEZONE
BEGIN:VEVENT
DTSTART;TZID=UTC:20250914T110000
DTEND;TZID=UTC:20250914T130000
DTSTAMP:20260420T032642
CREATED:20250828T101317Z
LAST-MODIFIED:20250828T101317Z
UID:2537-1757847600-1757854800@elimsater.se
SUMMARY:Gudstjänst
DESCRIPTION:Predikar: Josef Pansell\, medverkar gör också Per Gillberg med team från Smedjebacken
URL:https://elimsater.se/kalender/gudstjanst-2/
CATEGORIES:Gudstjänst
END:VEVENT
END:VCALENDAR