BEGIN:VCALENDAR
VERSION:2.0
PRODID:-//Elimförsamlingen i Säter - ECPv6.15.14//NONSGML v1.0//EN
CALSCALE:GREGORIAN
METHOD:PUBLISH
X-WR-CALNAME:Elimförsamlingen i Säter
X-ORIGINAL-URL:https://elimsater.se
X-WR-CALDESC:Händelser för Elimförsamlingen i Säter
REFRESH-INTERVAL;VALUE=DURATION:PT1H
X-Robots-Tag:noindex
X-PUBLISHED-TTL:PT1H
BEGIN:VTIMEZONE
TZID:UTC
BEGIN:STANDARD
TZOFFSETFROM:+0000
TZOFFSETTO:+0000
TZNAME:UTC
DTSTART:20240101T000000
END:STANDARD
END:VTIMEZONE
BEGIN:VEVENT
DTSTART;TZID=UTC:20251005T110000
DTEND;TZID=UTC:20251005T130000
DTSTAMP:20260420T014100
CREATED:20250828T103030Z
LAST-MODIFIED:20250828T103030Z
UID:2549-1759662000-1759669200@elimsater.se
SUMMARY:Gudstjänst
DESCRIPTION:Predikar; Andreas Skogholm
URL:https://elimsater.se/kalender/gudstjanst-3/
CATEGORIES:Gudstjänst
END:VEVENT
END:VCALENDAR