BEGIN:VCALENDAR
VERSION:2.0
PRODID:-//Elimförsamlingen i Säter - ECPv6.15.14//NONSGML v1.0//EN
CALSCALE:GREGORIAN
METHOD:PUBLISH
X-WR-CALNAME:Elimförsamlingen i Säter
X-ORIGINAL-URL:https://elimsater.se
X-WR-CALDESC:Händelser för Elimförsamlingen i Säter
REFRESH-INTERVAL;VALUE=DURATION:PT1H
X-Robots-Tag:noindex
X-PUBLISHED-TTL:PT1H
BEGIN:VTIMEZONE
TZID:UTC
BEGIN:STANDARD
TZOFFSETFROM:+0000
TZOFFSETTO:+0000
TZNAME:UTC
DTSTART:20240101T000000
END:STANDARD
END:VTIMEZONE
BEGIN:VEVENT
DTSTART;TZID=UTC:20250906T170000
DTEND;TZID=UTC:20250906T180000
DTSTAMP:20260420T070501
CREATED:20250828T100638Z
LAST-MODIFIED:20250828T100803Z
UID:2533-1757178000-1757181600@elimsater.se
SUMMARY:Tacokväll
DESCRIPTION:
URL:https://elimsater.se/kalender/tacokvall/
CATEGORIES:Tacokväll
END:VEVENT
END:VCALENDAR