BEGIN:VCALENDAR
VERSION:2.0
PRODID:-//Elimförsamlingen i Säter - ECPv6.15.14//NONSGML v1.0//EN
CALSCALE:GREGORIAN
METHOD:PUBLISH
X-WR-CALNAME:Elimförsamlingen i Säter
X-ORIGINAL-URL:https://elimsater.se
X-WR-CALDESC:Händelser för Elimförsamlingen i Säter
REFRESH-INTERVAL;VALUE=DURATION:PT1H
X-Robots-Tag:noindex
X-PUBLISHED-TTL:PT1H
BEGIN:VTIMEZONE
TZID:UTC
BEGIN:STANDARD
TZOFFSETFROM:+0000
TZOFFSETTO:+0000
TZNAME:UTC
DTSTART:20240101T000000
END:STANDARD
END:VTIMEZONE
BEGIN:VEVENT
DTSTART;TZID=UTC:20251016T190000
DTEND;TZID=UTC:20251016T200000
DTSTAMP:20260420T030926
CREATED:20250829T104145Z
LAST-MODIFIED:20250829T104145Z
UID:2584-1760641200-1760644800@elimsater.se
SUMMARY:Bön
DESCRIPTION:
URL:https://elimsater.se/kalender/bon-2-3-6-2/
CATEGORIES:Bönetimme
END:VEVENT
BEGIN:VEVENT
DTSTART;TZID=UTC:20251019T110000
DTEND;TZID=UTC:20251019T130000
DTSTAMP:20260420T030926
CREATED:20250828T103442Z
LAST-MODIFIED:20250828T103442Z
UID:2553-1760871600-1760878800@elimsater.se
SUMMARY:Gudstjänst
DESCRIPTION:Predikar: Kjell Fors
URL:https://elimsater.se/kalender/gudstjanst-7/
CATEGORIES:Gudstjänst
END:VEVENT
BEGIN:VEVENT
DTSTART;TZID=UTC:20251023T190000
DTEND;TZID=UTC:20251023T200000
DTSTAMP:20260420T030926
CREATED:20250829T104252Z
LAST-MODIFIED:20250829T104252Z
UID:2581-1761246000-1761249600@elimsater.se
SUMMARY:Bön
DESCRIPTION:
URL:https://elimsater.se/kalender/bon-2-3-8/
CATEGORIES:Bönetimme
END:VEVENT
BEGIN:VEVENT
DTSTART;TZID=UTC:20251026T110000
DTEND;TZID=UTC:20251026T130000
DTSTAMP:20260420T030926
CREATED:20250828T103647Z
LAST-MODIFIED:20250828T103647Z
UID:2555-1761476400-1761483600@elimsater.se
SUMMARY:Gudstjänst
DESCRIPTION:Predikar: Josef Pansell. Nattvard
URL:https://elimsater.se/kalender/gudstjanst-8/
CATEGORIES:Gudstjänst
END:VEVENT
BEGIN:VEVENT
DTSTART;TZID=UTC:20251030T190000
DTEND;TZID=UTC:20251030T200000
DTSTAMP:20260420T030926
CREATED:20250829T103852Z
LAST-MODIFIED:20250829T103852Z
UID:2580-1761850800-1761854400@elimsater.se
SUMMARY:Bön
DESCRIPTION:
URL:https://elimsater.se/kalender/bon-2-3-7/
CATEGORIES:Bönetimme
END:VEVENT
BEGIN:VEVENT
DTSTART;TZID=UTC:20251102T110000
DTEND;TZID=UTC:20251102T130000
DTSTAMP:20260420T030926
CREATED:20251009T095658Z
LAST-MODIFIED:20251009T095658Z
UID:2590-1762081200-1762088400@elimsater.se
SUMMARY:Gudstjänst
DESCRIPTION:Predikar: Kjell Fors
URL:https://elimsater.se/kalender/gudstjanst-9/
CATEGORIES:Gudstjänst
END:VEVENT
BEGIN:VEVENT
DTSTART;TZID=UTC:20251106T190000
DTEND;TZID=UTC:20251106T200000
DTSTAMP:20260420T030926
CREATED:20251009T101757Z
LAST-MODIFIED:20251009T101757Z
UID:2608-1762455600-1762459200@elimsater.se
SUMMARY:Bön
DESCRIPTION:
URL:https://elimsater.se/kalender/bon-2-3-7-2/
CATEGORIES:Bönetimme
END:VEVENT
BEGIN:VEVENT
DTSTART;TZID=UTC:20251108T170000
DTEND;TZID=UTC:20251108T190000
DTSTAMP:20260420T030926
CREATED:20251009T095841Z
LAST-MODIFIED:20251009T095841Z
UID:2592-1762621200-1762628400@elimsater.se
SUMMARY:Tacokväll
DESCRIPTION:
URL:https://elimsater.se/kalender/tacokvall-3/
CATEGORIES:Övrigt
END:VEVENT
BEGIN:VEVENT
DTSTART;TZID=UTC:20251109T110000
DTEND;TZID=UTC:20251109T130000
DTSTAMP:20260420T030926
CREATED:20251009T102901Z
LAST-MODIFIED:20251009T102901Z
UID:2617-1762686000-1762693200@elimsater.se
SUMMARY:Gudstjänst
DESCRIPTION:Predikar: Josef Pansell och ESBB medverkar
URL:https://elimsater.se/kalender/gudstjanst-10/
CATEGORIES:Gudstjänst
END:VEVENT
BEGIN:VEVENT
DTSTART;TZID=UTC:20251113T190000
DTEND;TZID=UTC:20251113T200000
DTSTAMP:20260420T030926
CREATED:20251009T101855Z
LAST-MODIFIED:20251009T101855Z
UID:2609-1763060400-1763064000@elimsater.se
SUMMARY:Bön
DESCRIPTION:
URL:https://elimsater.se/kalender/bon-2-3-7-3/
CATEGORIES:Bönetimme
END:VEVENT
BEGIN:VEVENT
DTSTART;TZID=UTC:20251116T110000
DTEND;TZID=UTC:20251116T130000
DTSTAMP:20260420T030926
CREATED:20251009T100200Z
LAST-MODIFIED:20251009T100600Z
UID:2596-1763290800-1763298000@elimsater.se
SUMMARY:Gudstjänst
DESCRIPTION:Predikar: Josef Pansell och Amanda Stevens med ungdomar från församlingen medverkar
URL:https://elimsater.se/kalender/gudstjanst-11/
CATEGORIES:Gudstjänst
END:VEVENT
BEGIN:VEVENT
DTSTART;TZID=UTC:20251120T190000
DTEND;TZID=UTC:20251120T200000
DTSTAMP:20260420T030926
CREATED:20251009T101941Z
LAST-MODIFIED:20251009T101941Z
UID:2607-1763665200-1763668800@elimsater.se
SUMMARY:Bön
DESCRIPTION:
URL:https://elimsater.se/kalender/bon-2-3-6-3/
END:VEVENT
BEGIN:VEVENT
DTSTART;TZID=UTC:20251122T100000
DTEND;TZID=UTC:20251122T170000
DTSTAMP:20260420T030926
CREATED:20251009T100421Z
LAST-MODIFIED:20251009T100421Z
UID:2598-1763805600-1763830800@elimsater.se
SUMMARY:Fixardag i kyrkan
DESCRIPTION:
URL:https://elimsater.se/kalender/fixardag-i-kyrkan/
CATEGORIES:Övrigt
END:VEVENT
BEGIN:VEVENT
DTSTART;TZID=UTC:20251123T110000
DTEND;TZID=UTC:20251123T130000
DTSTAMP:20260420T030926
CREATED:20251009T100804Z
LAST-MODIFIED:20251110T093154Z
UID:2600-1763895600-1763902800@elimsater.se
SUMMARY:Gudstjänst
DESCRIPTION:Predikar: Linus Berg och Per Gillberg med team från Smedjebacken medverkar. Församlingsmöte
URL:https://elimsater.se/kalender/gudstjanst-12/
CATEGORIES:Gudstjänst
END:VEVENT
BEGIN:VEVENT
DTSTART;TZID=UTC:20251127T190000
DTEND;TZID=UTC:20251127T200000
DTSTAMP:20260420T030926
CREATED:20251009T102031Z
LAST-MODIFIED:20251009T102031Z
UID:2610-1764270000-1764273600@elimsater.se
SUMMARY:Bön
DESCRIPTION:
URL:https://elimsater.se/kalender/bon-2-3-7-4/
CATEGORIES:Bönetimme
END:VEVENT
BEGIN:VEVENT
DTSTART;TZID=UTC:20251130T110000
DTEND;TZID=UTC:20251130T130000
DTSTAMP:20260420T030926
CREATED:20251009T100939Z
LAST-MODIFIED:20251110T093034Z
UID:2602-1764500400-1764507600@elimsater.se
SUMMARY:Gudstjänst - Första advent
DESCRIPTION:Predikar: Josef Pansell. Nattvard
URL:https://elimsater.se/kalender/gudstjanst-forsta-advent/
CATEGORIES:Gudstjänst
END:VEVENT
BEGIN:VEVENT
DTSTART;TZID=UTC:20251204T190000
DTEND;TZID=UTC:20251204T200000
DTSTAMP:20260420T030926
CREATED:20251009T102606Z
LAST-MODIFIED:20251009T102606Z
UID:2615-1764874800-1764878400@elimsater.se
SUMMARY:Bön
DESCRIPTION:
URL:https://elimsater.se/kalender/bon-2-3-6-4/
CATEGORIES:Bönetimme
END:VEVENT
BEGIN:VEVENT
DTSTART;TZID=UTC:20251207T110000
DTEND;TZID=UTC:20251207T130000
DTSTAMP:20260420T030926
CREATED:20251009T101136Z
LAST-MODIFIED:20251110T092923Z
UID:2604-1765105200-1765112400@elimsater.se
SUMMARY:Gudstjänst
DESCRIPTION:Predikar: Josef Pansell
URL:https://elimsater.se/kalender/gudstjanst-13/
CATEGORIES:Gudstjänst
END:VEVENT
BEGIN:VEVENT
DTSTART;TZID=UTC:20251211T190000
DTEND;TZID=UTC:20251211T200000
DTSTAMP:20260420T030926
CREATED:20251124T145705Z
LAST-MODIFIED:20251124T145705Z
UID:2642-1765479600-1765483200@elimsater.se
SUMMARY:Bön
DESCRIPTION:
URL:https://elimsater.se/kalender/bon-2-3-7-4-2/
CATEGORIES:Bönetimme
END:VEVENT
BEGIN:VEVENT
DTSTART;TZID=UTC:20251213T170000
DTEND;TZID=UTC:20251213T190000
DTSTAMP:20260420T030926
CREATED:20251124T150450Z
LAST-MODIFIED:20251124T150450Z
UID:2650-1765645200-1765652400@elimsater.se
SUMMARY:Tacokväll
DESCRIPTION:
URL:https://elimsater.se/kalender/tacokvall-3-2/
CATEGORIES:Övrigt
END:VEVENT
BEGIN:VEVENT
DTSTART;TZID=UTC:20251214T110000
DTEND;TZID=UTC:20251214T130000
DTSTAMP:20260420T030926
CREATED:20251124T150059Z
LAST-MODIFIED:20251205T110017Z
UID:2646-1765710000-1765717200@elimsater.se
SUMMARY:Gudstjänst
DESCRIPTION:Predikar: Kjell Fors
URL:https://elimsater.se/kalender/gudstjanst-13-2/
CATEGORIES:Gudstjänst
END:VEVENT
BEGIN:VEVENT
DTSTART;TZID=UTC:20251218T190000
DTEND;TZID=UTC:20251218T200000
DTSTAMP:20260420T030926
CREATED:20251124T145801Z
LAST-MODIFIED:20251124T145801Z
UID:2643-1766084400-1766088000@elimsater.se
SUMMARY:Bön
DESCRIPTION:
URL:https://elimsater.se/kalender/bon-2-3-7-4-3/
CATEGORIES:Bönetimme
END:VEVENT
BEGIN:VEVENT
DTSTART;TZID=UTC:20251221T110000
DTEND;TZID=UTC:20251221T130000
DTSTAMP:20260420T030926
CREATED:20251124T150228Z
LAST-MODIFIED:20251124T150228Z
UID:2648-1766314800-1766322000@elimsater.se
SUMMARY:Gudstjänst med barnens julspel och ESBB
DESCRIPTION:
URL:https://elimsater.se/kalender/gudstjanst-13-2-2/
CATEGORIES:Gudstjänst
END:VEVENT
BEGIN:VEVENT
DTSTART;TZID=UTC:20251228T110000
DTEND;TZID=UTC:20251228T130000
DTSTAMP:20260420T030926
CREATED:20251205T110216Z
LAST-MODIFIED:20251205T110259Z
UID:2676-1766919600-1766926800@elimsater.se
SUMMARY:Gudstjänst
DESCRIPTION:
URL:https://elimsater.se/kalender/gudstjanst-14/
CATEGORIES:Gudstjänst
END:VEVENT
BEGIN:VEVENT
DTSTART;TZID=UTC:20260104T110000
DTEND;TZID=UTC:20260104T130000
DTSTAMP:20260420T030926
CREATED:20251204T104128Z
LAST-MODIFIED:20251204T104128Z
UID:2672-1767524400-1767531600@elimsater.se
SUMMARY:Gudstjänst och Årshögtid
DESCRIPTION:Lunch\, nattvard\, församlingsmöte
URL:https://elimsater.se/kalender/gudstjanst-och-arshogtid/
CATEGORIES:Gudstjänst
END:VEVENT
BEGIN:VEVENT
DTSTART;TZID=UTC:20260108T190000
DTEND;TZID=UTC:20260108T200000
DTSTAMP:20260420T030926
CREATED:20251230T152654Z
LAST-MODIFIED:20251230T152654Z
UID:2684-1767898800-1767902400@elimsater.se
SUMMARY:Bön
DESCRIPTION:
URL:https://elimsater.se/kalender/bon-2-3-7-4-3-2/
CATEGORIES:Bönetimme
END:VEVENT
BEGIN:VEVENT
DTSTART;TZID=UTC:20260111T110000
DTEND;TZID=UTC:20260111T130000
DTSTAMP:20260420T030926
CREATED:20251205T110607Z
LAST-MODIFIED:20251205T110607Z
UID:2679-1768129200-1768136400@elimsater.se
SUMMARY:Gudstjänst
DESCRIPTION:Predikar: Kjell Fors
URL:https://elimsater.se/kalender/gudstjanst-15/
CATEGORIES:Gudstjänst
END:VEVENT
BEGIN:VEVENT
DTSTART;TZID=UTC:20260115T190000
DTEND;TZID=UTC:20260115T200000
DTSTAMP:20260420T030926
CREATED:20251230T152742Z
LAST-MODIFIED:20251230T152742Z
UID:2685-1768503600-1768507200@elimsater.se
SUMMARY:Bön
DESCRIPTION:
URL:https://elimsater.se/kalender/bon-2-3-7-4-3-3/
CATEGORIES:Bönetimme
END:VEVENT
BEGIN:VEVENT
DTSTART;TZID=UTC:20260118T110000
DTEND;TZID=UTC:20260118T130000
DTSTAMP:20260420T030926
CREATED:20251230T153511Z
LAST-MODIFIED:20251230T153511Z
UID:2678-1768734000-1768741200@elimsater.se
SUMMARY:Gudstjänst
DESCRIPTION:Predikar Josef Pansell
URL:https://elimsater.se/kalender/gudstjanst-16/
CATEGORIES:Gudstjänst
END:VEVENT
BEGIN:VEVENT
DTSTART;TZID=UTC:20260122T190000
DTEND;TZID=UTC:20260122T200000
DTSTAMP:20260420T030926
CREATED:20251230T152827Z
LAST-MODIFIED:20251230T152827Z
UID:2686-1769108400-1769112000@elimsater.se
SUMMARY:Bön
DESCRIPTION:
URL:https://elimsater.se/kalender/bon-2-3-7-4-3-4/
CATEGORIES:Bönetimme
END:VEVENT
END:VCALENDAR