BEGIN:VCALENDAR
VERSION:2.0
PRODID:-//Elimförsamlingen i Säter - ECPv6.15.14//NONSGML v1.0//EN
CALSCALE:GREGORIAN
METHOD:PUBLISH
X-WR-CALNAME:Elimförsamlingen i Säter
X-ORIGINAL-URL:https://elimsater.se
X-WR-CALDESC:Händelser för Elimförsamlingen i Säter
REFRESH-INTERVAL;VALUE=DURATION:PT1H
X-Robots-Tag:noindex
X-PUBLISHED-TTL:PT1H
BEGIN:VTIMEZONE
TZID:UTC
BEGIN:STANDARD
TZOFFSETFROM:+0000
TZOFFSETTO:+0000
TZNAME:UTC
DTSTART:20250101T000000
END:STANDARD
END:VTIMEZONE
BEGIN:VEVENT
DTSTART;TZID=UTC:20260405T110000
DTEND;TZID=UTC:20260405T130000
DTSTAMP:20260419T142733
CREATED:20260324T150615Z
LAST-MODIFIED:20260324T150702Z
UID:2785-1775386800-1775394000@elimsater.se
SUMMARY:Gudstjänst
DESCRIPTION:Predikar: Josef Pansell\, Amanda och ungdomarna
URL:https://elimsater.se/kalender/gudstjanst-17/
CATEGORIES:Gudstjänst
END:VEVENT
BEGIN:VEVENT
DTSTART;TZID=UTC:20260409T190000
DTEND;TZID=UTC:20260409T200000
DTSTAMP:20260419T142733
CREATED:20260126T113929Z
LAST-MODIFIED:20260126T113929Z
UID:2730-1775761200-1775764800@elimsater.se
SUMMARY:Bön
DESCRIPTION:
URL:https://elimsater.se/kalender/bon-2-3-7-4-3-9-7/
CATEGORIES:Bönetimme
END:VEVENT
BEGIN:VEVENT
DTSTART;TZID=UTC:20260411T170000
DTEND;TZID=UTC:20260411T190000
DTSTAMP:20260419T142733
CREATED:20260324T150911Z
LAST-MODIFIED:20260324T152057Z
UID:2787-1775926800-1775934000@elimsater.se
SUMMARY:Tacokväll
DESCRIPTION:Med Stanley och Barbro Karlman
URL:https://elimsater.se/kalender/tacokvall-5/
CATEGORIES:Tacokväll
END:VEVENT
BEGIN:VEVENT
DTSTART;TZID=UTC:20260412T110000
DTEND;TZID=UTC:20260412T130000
DTSTAMP:20260419T142733
CREATED:20260324T151206Z
LAST-MODIFIED:20260324T152033Z
UID:2789-1775991600-1775998800@elimsater.se
SUMMARY:Gudstjänst
DESCRIPTION:Med Stanley och Barbro Karlman och insamling till IBRA
URL:https://elimsater.se/kalender/gudstjanst-18/
CATEGORIES:Gudstjänst
END:VEVENT
BEGIN:VEVENT
DTSTART;TZID=UTC:20260416T190000
DTEND;TZID=UTC:20260416T200000
DTSTAMP:20260419T142733
CREATED:20260324T151732Z
LAST-MODIFIED:20260324T151732Z
UID:2794-1776366000-1776369600@elimsater.se
SUMMARY:Bön
DESCRIPTION:
URL:https://elimsater.se/kalender/bon-2-3-7-4-3-9-7-2/
CATEGORIES:Bönetimme
END:VEVENT
BEGIN:VEVENT
DTSTART;TZID=UTC:20260419T110000
DTEND;TZID=UTC:20260419T130000
DTSTAMP:20260419T142733
CREATED:20260324T151520Z
LAST-MODIFIED:20260324T151957Z
UID:2791-1776596400-1776603600@elimsater.se
SUMMARY:Gudstjänst
DESCRIPTION:Predikar: Amanda Stevens
URL:https://elimsater.se/kalender/gudstjanst-19/
CATEGORIES:Gudstjänst
END:VEVENT
BEGIN:VEVENT
DTSTART;TZID=UTC:20260423T190000
DTEND;TZID=UTC:20260423T200000
DTSTAMP:20260419T142733
CREATED:20260324T151826Z
LAST-MODIFIED:20260324T151826Z
UID:2795-1776970800-1776974400@elimsater.se
SUMMARY:Bön
DESCRIPTION:
URL:https://elimsater.se/kalender/bon-2-3-7-4-3-9-7-3/
CATEGORIES:Bönetimme
END:VEVENT
BEGIN:VEVENT
DTSTART;TZID=UTC:20260425T100000
DTEND;TZID=UTC:20260425T170000
DTSTAMP:20260419T142733
CREATED:20260324T152230Z
LAST-MODIFIED:20260324T152247Z
UID:2799-1777111200-1777136400@elimsater.se
SUMMARY:Fixardag
DESCRIPTION:
URL:https://elimsater.se/kalender/fixardag-3/
CATEGORIES:Övrigt
END:VEVENT
BEGIN:VEVENT
DTSTART;TZID=UTC:20260426T110000
DTEND;TZID=UTC:20260426T130000
DTSTAMP:20260419T142733
CREATED:20260324T152451Z
LAST-MODIFIED:20260324T152451Z
UID:2801-1777201200-1777208400@elimsater.se
SUMMARY:Gudstjänst
DESCRIPTION:Predikar: Josef Pansell. Per Gillberg med team
URL:https://elimsater.se/kalender/gudstjanst-20/
CATEGORIES:Gudstjänst
END:VEVENT
BEGIN:VEVENT
DTSTART;TZID=UTC:20260430T190000
DTEND;TZID=UTC:20260430T200000
DTSTAMP:20260419T142733
CREATED:20260324T151929Z
LAST-MODIFIED:20260324T151929Z
UID:2793-1777575600-1777579200@elimsater.se
SUMMARY:Bön
DESCRIPTION:
URL:https://elimsater.se/kalender/bon-2-3-7-4-3-9-7-4/
CATEGORIES:Bönetimme
END:VEVENT
END:VCALENDAR