BEGIN:VCALENDAR
VERSION:2.0
PRODID:-//Elimförsamlingen i Säter - ECPv6.15.14//NONSGML v1.0//EN
CALSCALE:GREGORIAN
METHOD:PUBLISH
X-ORIGINAL-URL:https://elimsater.se
X-WR-CALDESC:Händelser för Elimförsamlingen i Säter
REFRESH-INTERVAL;VALUE=DURATION:PT1H
X-Robots-Tag:noindex
X-PUBLISHED-TTL:PT1H
BEGIN:VTIMEZONE
TZID:UTC
BEGIN:STANDARD
TZOFFSETFROM:+0000
TZOFFSETTO:+0000
TZNAME:UTC
DTSTART:20250101T000000
END:STANDARD
END:VTIMEZONE
BEGIN:VEVENT
DTSTART;TZID=UTC:20260305T190000
DTEND;TZID=UTC:20260305T200000
DTSTAMP:20260419T171722
CREATED:20260126T113056Z
LAST-MODIFIED:20260126T113056Z
UID:2731-1772737200-1772740800@elimsater.se
SUMMARY:Bön
DESCRIPTION:
URL:https://elimsater.se/kalender/bon-2-3-7-4-3-9-2/
CATEGORIES:Bönetimme
END:VEVENT
BEGIN:VEVENT
DTSTART;TZID=UTC:20260308T110000
DTEND;TZID=UTC:20260308T130000
DTSTAMP:20260419T171722
CREATED:20260126T131349Z
LAST-MODIFIED:20260126T131349Z
UID:2749-1772967600-1772974800@elimsater.se
SUMMARY:Gudstjänst
DESCRIPTION:Predikar Elia Gusselius\, sångare från Borlänge
URL:https://elimsater.se/kalender/gudstjanst-16-5/
CATEGORIES:Gudstjänst
END:VEVENT
BEGIN:VEVENT
DTSTART;TZID=UTC:20260312T190000
DTEND;TZID=UTC:20260312T200000
DTSTAMP:20260419T171722
CREATED:20260126T113142Z
LAST-MODIFIED:20260126T114012Z
UID:2732-1773342000-1773345600@elimsater.se
SUMMARY:Bön
DESCRIPTION:
URL:https://elimsater.se/kalender/bon-2-3-7-4-3-9-3/
CATEGORIES:Bönetimme
END:VEVENT
BEGIN:VEVENT
DTSTART;TZID=UTC:20260315T110000
DTEND;TZID=UTC:20260315T130000
DTSTAMP:20260419T171722
CREATED:20260126T131528Z
LAST-MODIFIED:20260126T131528Z
UID:2750-1773572400-1773579600@elimsater.se
SUMMARY:Gudstjänst
DESCRIPTION:Besök Open Doors\, insamling till Open doors
URL:https://elimsater.se/kalender/gudstjanst-16-6/
CATEGORIES:Gudstjänst
END:VEVENT
BEGIN:VEVENT
DTSTART;TZID=UTC:20260319T190000
DTEND;TZID=UTC:20260319T200000
DTSTAMP:20260419T171722
CREATED:20260126T113550Z
LAST-MODIFIED:20260126T113550Z
UID:2733-1773946800-1773950400@elimsater.se
SUMMARY:Bön
DESCRIPTION:
URL:https://elimsater.se/kalender/bon-2-3-7-4-3-9-4/
CATEGORIES:Bönetimme
END:VEVENT
BEGIN:VEVENT
DTSTART;TZID=UTC:20260321T170000
DTEND;TZID=UTC:20260321T200000
DTSTAMP:20260419T171722
CREATED:20260126T132322Z
LAST-MODIFIED:20260126T132322Z
UID:2769-1774112400-1774123200@elimsater.se
SUMMARY:Tacokväll
DESCRIPTION:
URL:https://elimsater.se/kalender/tacokvall-4-2/
CATEGORIES:Tacokväll
END:VEVENT
BEGIN:VEVENT
DTSTART;TZID=UTC:20260322T110000
DTEND;TZID=UTC:20260322T130000
DTSTAMP:20260419T171722
CREATED:20260126T131743Z
LAST-MODIFIED:20260126T131757Z
UID:2764-1774177200-1774184400@elimsater.se
SUMMARY:Gudstjänst och Administrationsmöte
DESCRIPTION:Predikar: Josef Pansell
URL:https://elimsater.se/kalender/gudstjanst-16-6-2/
CATEGORIES:Gudstjänst
END:VEVENT
BEGIN:VEVENT
DTSTART;TZID=UTC:20260326T190000
DTEND;TZID=UTC:20260326T200000
DTSTAMP:20260419T171722
CREATED:20260126T113632Z
LAST-MODIFIED:20260126T113632Z
UID:2734-1774551600-1774555200@elimsater.se
SUMMARY:Bön
DESCRIPTION:
URL:https://elimsater.se/kalender/bon-2-3-7-4-3-9-5/
CATEGORIES:Bönetimme
END:VEVENT
BEGIN:VEVENT
DTSTART;TZID=UTC:20260329T110000
DTEND;TZID=UTC:20260329T130000
DTSTAMP:20260419T171722
CREATED:20260126T132200Z
LAST-MODIFIED:20260126T132200Z
UID:2767-1774782000-1774789200@elimsater.se
SUMMARY:Gudstjänst
DESCRIPTION:Predikar: Per Gillberg\, medverkar gör också Per Gillberg med team
URL:https://elimsater.se/kalender/gudstjanst-16-5-2/
CATEGORIES:Gudstjänst
END:VEVENT
BEGIN:VEVENT
DTSTART;TZID=UTC:20260402T190000
DTEND;TZID=UTC:20260402T200000
DTSTAMP:20260419T171722
CREATED:20260324T150049Z
LAST-MODIFIED:20260324T150049Z
UID:2781-1775156400-1775160000@elimsater.se
SUMMARY:Getsemannestund
DESCRIPTION:Med nattvard
URL:https://elimsater.se/kalender/getsemannestund/
CATEGORIES:Gudstjänst
END:VEVENT
BEGIN:VEVENT
DTSTART;TZID=UTC:20260403T190000
DTEND;TZID=UTC:20260403T200000
DTSTAMP:20260419T171722
CREATED:20260324T150355Z
LAST-MODIFIED:20260324T150355Z
UID:2783-1775242800-1775246400@elimsater.se
SUMMARY:Bibelreflektion
DESCRIPTION:
URL:https://elimsater.se/kalender/bibelreflektion/
CATEGORIES:Gudstjänst
END:VEVENT
BEGIN:VEVENT
DTSTART;TZID=UTC:20260405T110000
DTEND;TZID=UTC:20260405T130000
DTSTAMP:20260419T171722
CREATED:20260324T150615Z
LAST-MODIFIED:20260324T150702Z
UID:2785-1775386800-1775394000@elimsater.se
SUMMARY:Gudstjänst
DESCRIPTION:Predikar: Josef Pansell\, Amanda och ungdomarna
URL:https://elimsater.se/kalender/gudstjanst-17/
CATEGORIES:Gudstjänst
END:VEVENT
BEGIN:VEVENT
DTSTART;TZID=UTC:20260409T190000
DTEND;TZID=UTC:20260409T200000
DTSTAMP:20260419T171722
CREATED:20260126T113929Z
LAST-MODIFIED:20260126T113929Z
UID:2730-1775761200-1775764800@elimsater.se
SUMMARY:Bön
DESCRIPTION:
URL:https://elimsater.se/kalender/bon-2-3-7-4-3-9-7/
CATEGORIES:Bönetimme
END:VEVENT
BEGIN:VEVENT
DTSTART;TZID=UTC:20260411T170000
DTEND;TZID=UTC:20260411T190000
DTSTAMP:20260419T171722
CREATED:20260324T150911Z
LAST-MODIFIED:20260324T152057Z
UID:2787-1775926800-1775934000@elimsater.se
SUMMARY:Tacokväll
DESCRIPTION:Med Stanley och Barbro Karlman
URL:https://elimsater.se/kalender/tacokvall-5/
CATEGORIES:Tacokväll
END:VEVENT
BEGIN:VEVENT
DTSTART;TZID=UTC:20260412T110000
DTEND;TZID=UTC:20260412T130000
DTSTAMP:20260419T171722
CREATED:20260324T151206Z
LAST-MODIFIED:20260324T152033Z
UID:2789-1775991600-1775998800@elimsater.se
SUMMARY:Gudstjänst
DESCRIPTION:Med Stanley och Barbro Karlman och insamling till IBRA
URL:https://elimsater.se/kalender/gudstjanst-18/
CATEGORIES:Gudstjänst
END:VEVENT
BEGIN:VEVENT
DTSTART;TZID=UTC:20260416T190000
DTEND;TZID=UTC:20260416T200000
DTSTAMP:20260419T171722
CREATED:20260324T151732Z
LAST-MODIFIED:20260324T151732Z
UID:2794-1776366000-1776369600@elimsater.se
SUMMARY:Bön
DESCRIPTION:
URL:https://elimsater.se/kalender/bon-2-3-7-4-3-9-7-2/
CATEGORIES:Bönetimme
END:VEVENT
BEGIN:VEVENT
DTSTART;TZID=UTC:20260419T110000
DTEND;TZID=UTC:20260419T130000
DTSTAMP:20260419T171722
CREATED:20260324T151520Z
LAST-MODIFIED:20260324T151957Z
UID:2791-1776596400-1776603600@elimsater.se
SUMMARY:Gudstjänst
DESCRIPTION:Predikar: Amanda Stevens
URL:https://elimsater.se/kalender/gudstjanst-19/
CATEGORIES:Gudstjänst
END:VEVENT
BEGIN:VEVENT
DTSTART;TZID=UTC:20260423T190000
DTEND;TZID=UTC:20260423T200000
DTSTAMP:20260419T171722
CREATED:20260324T151826Z
LAST-MODIFIED:20260324T151826Z
UID:2795-1776970800-1776974400@elimsater.se
SUMMARY:Bön
DESCRIPTION:
URL:https://elimsater.se/kalender/bon-2-3-7-4-3-9-7-3/
CATEGORIES:Bönetimme
END:VEVENT
BEGIN:VEVENT
DTSTART;TZID=UTC:20260425T100000
DTEND;TZID=UTC:20260425T170000
DTSTAMP:20260419T171722
CREATED:20260324T152230Z
LAST-MODIFIED:20260324T152247Z
UID:2799-1777111200-1777136400@elimsater.se
SUMMARY:Fixardag
DESCRIPTION:
URL:https://elimsater.se/kalender/fixardag-3/
CATEGORIES:Övrigt
END:VEVENT
BEGIN:VEVENT
DTSTART;TZID=UTC:20260426T110000
DTEND;TZID=UTC:20260426T130000
DTSTAMP:20260419T171722
CREATED:20260324T152451Z
LAST-MODIFIED:20260324T152451Z
UID:2801-1777201200-1777208400@elimsater.se
SUMMARY:Gudstjänst
DESCRIPTION:Predikar: Josef Pansell. Per Gillberg med team
URL:https://elimsater.se/kalender/gudstjanst-20/
CATEGORIES:Gudstjänst
END:VEVENT
BEGIN:VEVENT
DTSTART;TZID=UTC:20260430T190000
DTEND;TZID=UTC:20260430T200000
DTSTAMP:20260419T171722
CREATED:20260324T151929Z
LAST-MODIFIED:20260324T151929Z
UID:2793-1777575600-1777579200@elimsater.se
SUMMARY:Bön
DESCRIPTION:
URL:https://elimsater.se/kalender/bon-2-3-7-4-3-9-7-4/
CATEGORIES:Bönetimme
END:VEVENT
END:VCALENDAR