BEGIN:VCALENDAR
VERSION:2.0
PRODID:-//Elimförsamlingen i Säter - ECPv6.15.14//NONSGML v1.0//EN
CALSCALE:GREGORIAN
METHOD:PUBLISH
X-ORIGINAL-URL:https://elimsater.se
X-WR-CALDESC:Händelser för Elimförsamlingen i Säter
REFRESH-INTERVAL;VALUE=DURATION:PT1H
X-Robots-Tag:noindex
X-PUBLISHED-TTL:PT1H
BEGIN:VTIMEZONE
TZID:UTC
BEGIN:STANDARD
TZOFFSETFROM:+0000
TZOFFSETTO:+0000
TZNAME:UTC
DTSTART:20240101T000000
END:STANDARD
END:VTIMEZONE
BEGIN:VEVENT
DTSTART;TZID=UTC:20250803T180000
DTEND;TZID=UTC:20250803T180000
DTSTAMP:20260420T000127
CREATED:20250712T193827Z
LAST-MODIFIED:20250712T194334Z
UID:2302-1754244000-1754244000@elimsater.se
SUMMARY:Sommarcafé med andakt
DESCRIPTION:Med Per Gillberg m.fl
URL:https://elimsater.se/kalender/sommarcafe-med-andakt-5/
CATEGORIES:Sommarcafé med andakt
END:VEVENT
BEGIN:VEVENT
DTSTART;TZID=UTC:20250810T180000
DTEND;TZID=UTC:20250810T180000
DTSTAMP:20260420T000127
CREATED:20250712T194634Z
LAST-MODIFIED:20250712T195220Z
UID:2304-1754848800-1754848800@elimsater.se
SUMMARY:Sommarcafé med andakt
DESCRIPTION:Med Josef och Anna
URL:https://elimsater.se/kalender/sommarcafe-med-andakt-4/
CATEGORIES:Sommarcafé med andakt
END:VEVENT
BEGIN:VEVENT
DTSTART;TZID=UTC:20250817T180000
DTEND;TZID=UTC:20250817T180000
DTSTAMP:20260420T000127
CREATED:20250712T194755Z
LAST-MODIFIED:20250712T195142Z
UID:2306-1755453600-1755453600@elimsater.se
SUMMARY:Sommarcafé med andakt
DESCRIPTION:Med Elisabeth och Kent
URL:https://elimsater.se/kalender/sommarcafe-med-andakt-6/
CATEGORIES:Sommarcafé med andakt
END:VEVENT
BEGIN:VEVENT
DTSTART;TZID=UTC:20250831T110000
DTEND;TZID=UTC:20250831T130000
DTSTAMP:20260420T000127
CREATED:20250828T100458Z
LAST-MODIFIED:20250828T102740Z
UID:2531-1756638000-1756645200@elimsater.se
SUMMARY:Bönegudstjänst
DESCRIPTION:Josef Pansell
URL:https://elimsater.se/kalender/bonegudstjanst/
CATEGORIES:Gudstjänst
END:VEVENT
END:VCALENDAR